BEGIN:VCALENDAR
VERSION:2.0
PRODID:-//Finsif - ECPv6.15.18//NONSGML v1.0//EN
CALSCALE:GREGORIAN
METHOD:PUBLISH
X-WR-CALNAME:Finsif
X-ORIGINAL-URL:https://finsif.fi
X-WR-CALDESC:Tapahtumat Finsif
REFRESH-INTERVAL;VALUE=DURATION:PT1H
X-Robots-Tag:noindex
X-PUBLISHED-TTL:PT1H
BEGIN:VTIMEZONE
TZID:Europe/Helsinki
BEGIN:DAYLIGHT
TZOFFSETFROM:+0200
TZOFFSETTO:+0300
TZNAME:EEST
DTSTART:20240331T010000
END:DAYLIGHT
BEGIN:STANDARD
TZOFFSETFROM:+0300
TZOFFSETTO:+0200
TZNAME:EET
DTSTART:20241027T010000
END:STANDARD
BEGIN:DAYLIGHT
TZOFFSETFROM:+0200
TZOFFSETTO:+0300
TZNAME:EEST
DTSTART:20250330T010000
END:DAYLIGHT
BEGIN:STANDARD
TZOFFSETFROM:+0300
TZOFFSETTO:+0200
TZNAME:EET
DTSTART:20251026T010000
END:STANDARD
BEGIN:DAYLIGHT
TZOFFSETFROM:+0200
TZOFFSETTO:+0300
TZNAME:EEST
DTSTART:20260329T010000
END:DAYLIGHT
BEGIN:STANDARD
TZOFFSETFROM:+0300
TZOFFSETTO:+0200
TZNAME:EET
DTSTART:20261025T010000
END:STANDARD
BEGIN:DAYLIGHT
TZOFFSETFROM:+0200
TZOFFSETTO:+0300
TZNAME:EEST
DTSTART:20270328T010000
END:DAYLIGHT
BEGIN:STANDARD
TZOFFSETFROM:+0300
TZOFFSETTO:+0200
TZNAME:EET
DTSTART:20271031T010000
END:STANDARD
END:VTIMEZONE
BEGIN:VTIMEZONE
TZID:Europe/Brussels
BEGIN:DAYLIGHT
TZOFFSETFROM:+0100
TZOFFSETTO:+0200
TZNAME:CEST
DTSTART:20240331T010000
END:DAYLIGHT
BEGIN:STANDARD
TZOFFSETFROM:+0200
TZOFFSETTO:+0100
TZNAME:CET
DTSTART:20241027T010000
END:STANDARD
BEGIN:DAYLIGHT
TZOFFSETFROM:+0100
TZOFFSETTO:+0200
TZNAME:CEST
DTSTART:20250330T010000
END:DAYLIGHT
BEGIN:STANDARD
TZOFFSETFROM:+0200
TZOFFSETTO:+0100
TZNAME:CET
DTSTART:20251026T010000
END:STANDARD
BEGIN:DAYLIGHT
TZOFFSETFROM:+0100
TZOFFSETTO:+0200
TZNAME:CEST
DTSTART:20260329T010000
END:DAYLIGHT
BEGIN:STANDARD
TZOFFSETFROM:+0200
TZOFFSETTO:+0100
TZNAME:CET
DTSTART:20261025T010000
END:STANDARD
BEGIN:DAYLIGHT
TZOFFSETFROM:+0100
TZOFFSETTO:+0200
TZNAME:CEST
DTSTART:20270328T010000
END:DAYLIGHT
BEGIN:STANDARD
TZOFFSETFROM:+0200
TZOFFSETTO:+0100
TZNAME:CET
DTSTART:20271031T010000
END:STANDARD
END:VTIMEZONE
BEGIN:VTIMEZONE
TZID:Europe/Oslo
BEGIN:DAYLIGHT
TZOFFSETFROM:+0100
TZOFFSETTO:+0200
TZNAME:CEST
DTSTART:20240331T010000
END:DAYLIGHT
BEGIN:STANDARD
TZOFFSETFROM:+0200
TZOFFSETTO:+0100
TZNAME:CET
DTSTART:20241027T010000
END:STANDARD
BEGIN:DAYLIGHT
TZOFFSETFROM:+0100
TZOFFSETTO:+0200
TZNAME:CEST
DTSTART:20250330T010000
END:DAYLIGHT
BEGIN:STANDARD
TZOFFSETFROM:+0200
TZOFFSETTO:+0100
TZNAME:CET
DTSTART:20251026T010000
END:STANDARD
BEGIN:DAYLIGHT
TZOFFSETFROM:+0100
TZOFFSETTO:+0200
TZNAME:CEST
DTSTART:20260329T010000
END:DAYLIGHT
BEGIN:STANDARD
TZOFFSETFROM:+0200
TZOFFSETTO:+0100
TZNAME:CET
DTSTART:20261025T010000
END:STANDARD
END:VTIMEZONE
BEGIN:VEVENT
DTSTART;TZID=Europe/Helsinki:20250306T081500
DTEND;TZID=Europe/Helsinki:20250306T100000
DTSTAMP:20260425T194026
CREATED:20250113T124704Z
LAST-MODIFIED:20260216T130459Z
UID:21197-1741248900-1741255200@finsif.fi
SUMMARY:Velkakirjojen rooli kestävyyssiirtymässä - Valttina ESG-näkökulmat
DESCRIPTION:
URL:https://finsif.fi/tapahtuma/velkakirjojen-rooli-kestavyyssiirtymassa-valttina-esg-nakokulmat/
ATTACH;FMTTYPE=image/jpeg:https://finsif.fi/wp-content/uploads/2025/01/micheile-dot-com-ZVprbBmT8QA-unsplash-scaled.jpg
END:VEVENT
BEGIN:VEVENT
DTSTART;TZID=Europe/Brussels:20250311T160000
DTEND;TZID=Europe/Brussels:20250311T170000
DTSTAMP:20260425T194026
CREATED:20250122T084824Z
LAST-MODIFIED:20250408T133557Z
UID:21249-1741708800-1741712400@finsif.fi
SUMMARY:Eurosif Policy and Capacity Building Webinar March
DESCRIPTION:
URL:https://finsif.fi/tapahtuma/eurosif-policy-and-capacity-building-webinar-march/
ATTACH;FMTTYPE=image/jpeg:https://finsif.fi/wp-content/uploads/2024/09/eurosif-medium2.jpg
END:VEVENT
BEGIN:VEVENT
DTSTART;TZID=Europe/Helsinki:20250326T083000
DTEND;TZID=Europe/Helsinki:20250326T103000
DTSTAMP:20260425T194026
CREATED:20240619T094058Z
LAST-MODIFIED:20260216T130553Z
UID:20350-1742977800-1742985000@finsif.fi
SUMMARY:Pintaa syvemmälle - kiinteistösektori ja vastuullinen sijoittaminen
DESCRIPTION:
URL:https://finsif.fi/tapahtuma/pintaa-syvemmalle-kiinteistosektori-ja-vastuullinen-sijoittaminen/
ATTACH;FMTTYPE=image/jpeg:https://finsif.fi/wp-content/uploads/2024/06/pexels-daniel-watson-90038-1487154-scaled.jpg
END:VEVENT
BEGIN:VEVENT
DTSTART;TZID=Europe/Helsinki:20250402T130000
DTEND;TZID=Europe/Helsinki:20250402T170000
DTSTAMP:20260425T194026
CREATED:20240619T095125Z
LAST-MODIFIED:20260216T130612Z
UID:20353-1743598800-1743613200@finsif.fi
SUMMARY:Pintaa syvemmälle - Puolustusteollisuus ja vastuullinen sijoittaminen
DESCRIPTION:
URL:https://finsif.fi/tapahtuma/pintaa-syvemmalle-puolustusteollisuus-ja-vastuullinen-sijoittaminen/
CATEGORIES:Events
ATTACH;FMTTYPE=image/jpeg:https://finsif.fi/wp-content/uploads/2024/06/pexels-polina-tankilevitch-5257287-scaled.jpg
END:VEVENT
BEGIN:VEVENT
DTSTART;TZID=Europe/Helsinki:20250423T083000
DTEND;TZID=Europe/Helsinki:20250423T110000
DTSTAMP:20260425T194026
CREATED:20250312T105327Z
LAST-MODIFIED:20260216T130641Z
UID:21528-1745397000-1745406000@finsif.fi
SUMMARY:Rising tensions: the new reality for sustainable investing in 2025
DESCRIPTION:
URL:https://finsif.fi/tapahtuma/rising-tensions-the-new-reality-for-sustainable-investing-in-2025/
CATEGORIES:Events
ATTACH;FMTTYPE=image/jpeg:https://finsif.fi/wp-content/uploads/2025/03/Kuva1-scaled.jpg
END:VEVENT
BEGIN:VEVENT
DTSTART;TZID=Europe/Helsinki:20250521T133000
DTEND;TZID=Europe/Helsinki:20250521T160000
DTSTAMP:20260425T194026
CREATED:20240917T071708Z
LAST-MODIFIED:20260217T134854Z
UID:20607-1747834200-1747843200@finsif.fi
SUMMARY:Sääntömääräinen kevätkokous 2025
DESCRIPTION:
URL:https://finsif.fi/tapahtuma/saantomaarainen-kevatkokous-2025-2/
ATTACH;FMTTYPE=image/jpeg:https://finsif.fi/wp-content/uploads/2024/09/nine-kopfer-360998-scaled.jpg
END:VEVENT
BEGIN:VEVENT
DTSTART;TZID=Europe/Helsinki:20250527T130000
DTEND;TZID=Europe/Helsinki:20250527T160000
DTSTAMP:20260425T194026
CREATED:20250304T072053Z
LAST-MODIFIED:20260216T130748Z
UID:21490-1748350800-1748361600@finsif.fi
SUMMARY:Vastuullinen sijoittaminen tieteen linsseillä 2025
DESCRIPTION:
URL:https://finsif.fi/tapahtuma/vastuullinen-sijoittaminen-tieteen-linsseilla-2025/
ATTACH;FMTTYPE=image/jpeg:https://finsif.fi/wp-content/uploads/2024/03/pexels-luis-quintero-2774556-scaled.jpg
END:VEVENT
BEGIN:VEVENT
DTSTART;TZID=Europe/Helsinki:20250527T164500
DTEND;TZID=Europe/Helsinki:20250527T190000
DTSTAMP:20260425T194026
CREATED:20250415T125927Z
LAST-MODIFIED:20260216T130824Z
UID:21726-1748364300-1748372400@finsif.fi
SUMMARY:Omistajuus suomalaisissa pörssiyhtiöissä\, sijoittajien tiedontarpeet ja kestävyysraportointi
DESCRIPTION:
URL:https://finsif.fi/tapahtuma/suomalainen-omistajuus-porssiyhtioissa-ja-kestavyysraportointi/
ATTACH;FMTTYPE=image/jpeg:https://finsif.fi/wp-content/uploads/2025/04/shubham-dhage-MBfYGVsDEp8-unsplash-scaled.jpg
END:VEVENT
BEGIN:VEVENT
DTSTART;TZID=Europe/Oslo:20250604T120000
DTEND;TZID=Europe/Oslo:20250605T120000
DTSTAMP:20260425T194026
CREATED:20250127T112615Z
LAST-MODIFIED:20250313T111211Z
UID:21286-1749038400-1749124800@finsif.fi
SUMMARY:NordicSIF 2025
DESCRIPTION:
URL:https://finsif.fi/tapahtuma/nordicsif-2025/
CATEGORIES:Events
ATTACH;FMTTYPE=image/jpeg:https://finsif.fi/wp-content/uploads/2025/01/Front-picture-Swesf-2.jpeg
END:VEVENT
BEGIN:VEVENT
DTSTART;TZID=Europe/Brussels:20250619T120000
DTEND;TZID=Europe/Brussels:20250619T130000
DTSTAMP:20260425T194026
CREATED:20250122T085026Z
LAST-MODIFIED:20251120T123451Z
UID:21251-1750334400-1750338000@finsif.fi
SUMMARY:Eurosif Policy and Capacity Building Webinar June
DESCRIPTION:
URL:https://finsif.fi/tapahtuma/eurosif-policy-and-capacity-building-webinar-june/
ATTACH;FMTTYPE=image/jpeg:https://finsif.fi/wp-content/uploads/2024/09/eurosif-medium2.jpg
END:VEVENT
BEGIN:VEVENT
DTSTART;TZID=Europe/Helsinki:20250827T083000
DTEND;TZID=Europe/Helsinki:20250827T111500
DTSTAMP:20260425T194026
CREATED:20250325T075458Z
LAST-MODIFIED:20260216T130907Z
UID:21600-1756283400-1756293300@finsif.fi
SUMMARY:Aktiivinen kanssakäyminen omistuksien kanssa
DESCRIPTION:
URL:https://finsif.fi/tapahtuma/aktiivinen-omistajuus-vastuullisen-sijoittamisen-keinona-2/
ATTACH;FMTTYPE=image/jpeg:https://finsif.fi/wp-content/uploads/2024/06/pexels-photo-416322.jpeg
END:VEVENT
BEGIN:VEVENT
DTSTART;TZID=Europe/Helsinki:20250910T083000
DTEND;TZID=Europe/Helsinki:20250910T110000
DTSTAMP:20260425T194026
CREATED:20250619T133129Z
LAST-MODIFIED:20260216T130358Z
UID:22145-1757493000-1757502000@finsif.fi
SUMMARY:Data that is not found in a third-party database
DESCRIPTION:
URL:https://finsif.fi/tapahtuma/data-joka-ei-loydy-kolmannen-osapuolen-tietokannasta/
ATTACH;FMTTYPE=image/jpeg:https://finsif.fi/wp-content/uploads/2025/06/claudio-schwarz-fyeOxvYvIyY-unsplash-scaled.jpg
END:VEVENT
BEGIN:VEVENT
DTSTART;TZID=Europe/Helsinki:20251002T121500
DTEND;TZID=Europe/Helsinki:20251002T170000
DTSTAMP:20260425T194026
CREATED:20250522T165847Z
LAST-MODIFIED:20260216T130327Z
UID:21925-1759407300-1759424400@finsif.fi
SUMMARY:Finsif 15-vuotisjuhlaseminaari: Vastuullinen sijoittaminen muuttuvassa maailmassa
DESCRIPTION:
URL:https://finsif.fi/tapahtuma/finsif-15-vuotisjuhlaseminaari-vastuullinen-sijoittaminen-muuttuvassa-maailmassa/
ATTACH;FMTTYPE=image/jpeg:https://finsif.fi/wp-content/uploads/2025/05/Kuva5-scaled.jpg
END:VEVENT
BEGIN:VEVENT
DTSTART;TZID=Europe/Helsinki:20251008T160000
DTEND;TZID=Europe/Helsinki:20251008T170000
DTSTAMP:20260425T194026
CREATED:20250915T094510Z
LAST-MODIFIED:20260216T130244Z
UID:22360-1759939200-1759942800@finsif.fi
SUMMARY:Norsif and US SIF Digital Fireside Chat
DESCRIPTION:
URL:https://finsif.fi/tapahtuma/norsif-and-us-sif-digital-fireside-chat/
ATTACH;FMTTYPE=image/jpeg:https://finsif.fi/wp-content/uploads/2025/09/fleur-dQf7RZhMOJU-unsplash-scaled.jpg
END:VEVENT
BEGIN:VEVENT
DTSTART;TZID=Europe/Brussels:20251009T120000
DTEND;TZID=Europe/Brussels:20251009T130000
DTSTAMP:20260425T194026
CREATED:20250122T085141Z
LAST-MODIFIED:20251120T123314Z
UID:21253-1760011200-1760014800@finsif.fi
SUMMARY:Eurosif Policy and Capacity Building Webinar October
DESCRIPTION:
URL:https://finsif.fi/tapahtuma/eurosif-policy-and-capacity-building-webinar-october/
ATTACH;FMTTYPE=image/jpeg:https://finsif.fi/wp-content/uploads/2024/09/eurosif-medium2.jpg
END:VEVENT
BEGIN:VEVENT
DTSTART;TZID=Europe/Helsinki:20251028T083000
DTEND;TZID=Europe/Helsinki:20251028T123000
DTSTAMP:20260425T194026
CREATED:20250224T130734Z
LAST-MODIFIED:20260216T130212Z
UID:21459-1761640200-1761654600@finsif.fi
SUMMARY:Kannattaako kestävyys - Kustannuksesta arvonluontiin FINSIF x FIBS x KPMG
DESCRIPTION:
URL:https://finsif.fi/tapahtuma/finsiffibskpmgyhteistyo/
ATTACH;FMTTYPE=image/png:https://finsif.fi/wp-content/uploads/2023/06/Yhteislogokuva.png
END:VEVENT
BEGIN:VEVENT
DTSTART;TZID=Europe/Helsinki:20251112T160000
DTEND;TZID=Europe/Helsinki:20251112T170000
DTSTAMP:20260425T194026
CREATED:20251113T122443Z
LAST-MODIFIED:20260216T125838Z
UID:22651-1762963200-1762966800@finsif.fi
SUMMARY:Dansif Webinar – New Risks and Barriers to Active Ownership
DESCRIPTION:
URL:https://finsif.fi/tapahtuma/dansif-webinar-new-risks-and-barriers-to-active-ownership/
CATEGORIES:Events
ATTACH;FMTTYPE=image/jpeg:https://finsif.fi/wp-content/uploads/2025/11/AODansifkuva-scaled.jpg
END:VEVENT
BEGIN:VEVENT
DTSTART;TZID=Europe/Helsinki:20251125T083000
DTEND;TZID=Europe/Helsinki:20251125T110000
DTSTAMP:20260425T194026
CREATED:20250619T123703Z
LAST-MODIFIED:20251230T100201Z
UID:22130-1764059400-1764068400@finsif.fi
SUMMARY:TNFD's LEAP method and best practices from frontrunners in financial sector's nature work
DESCRIPTION:
URL:https://finsif.fi/tapahtuma/tnfd-koulutusmateriaalt-tukemaan-vastuullista-sijoitustoimintaa/
CATEGORIES:Events
ATTACH;FMTTYPE=image/jpeg:https://finsif.fi/wp-content/uploads/2025/06/pexels-nita-9825-54300-scaled.jpg
END:VEVENT
BEGIN:VEVENT
DTSTART;TZID=Europe/Helsinki:20251127T131500
DTEND;TZID=Europe/Helsinki:20251127T160000
DTSTAMP:20260425T194026
CREATED:20250622T175705Z
LAST-MODIFIED:20251230T100132Z
UID:22153-1764249300-1764259200@finsif.fi
SUMMARY:Active ownership - long-term impact and results
DESCRIPTION:
URL:https://finsif.fi/tapahtuma/aktiivinen-omistajuus-pitkan-aikavalin-vaikuttaminen-ja-tulokset-in-english/
CATEGORIES:Events
ATTACH;FMTTYPE=image/jpeg:https://finsif.fi/wp-content/uploads/2024/06/pexels-photo-416322.jpeg
END:VEVENT
BEGIN:VEVENT
DTSTART;TZID=Europe/Brussels:20251204T160000
DTEND;TZID=Europe/Brussels:20251204T170000
DTSTAMP:20260425T194026
CREATED:20250122T085802Z
LAST-MODIFIED:20251112T030013Z
UID:21258-1764864000-1764867600@finsif.fi
SUMMARY:Eurosif Policy and Capacity Building Webinar December
DESCRIPTION:
URL:https://finsif.fi/tapahtuma/eurosif-policy-and-capacity-building-webinar-december/
CATEGORIES:Events
ATTACH;FMTTYPE=image/jpeg:https://finsif.fi/wp-content/uploads/2024/09/eurosif-medium2.jpg
END:VEVENT
BEGIN:VEVENT
DTSTART;TZID=Europe/Helsinki:20251210T133000
DTEND;TZID=Europe/Helsinki:20251210T160000
DTSTAMP:20260425T194026
CREATED:20240917T072608Z
LAST-MODIFIED:20260217T133313Z
UID:20611-1765373400-1765382400@finsif.fi
SUMMARY:Sääntömääräinen syyskokous 2025
DESCRIPTION:
URL:https://finsif.fi/tapahtuma/saantomaarainen-syyskokous-2025/
ATTACH;FMTTYPE=image/jpeg:https://finsif.fi/wp-content/uploads/2024/09/patrick-brinksma-1243720-unsplash-scaled-e1726557938950.jpg
END:VEVENT
BEGIN:VEVENT
DTSTART;TZID=Europe/Helsinki:20260128T083000
DTEND;TZID=Europe/Helsinki:20260128T140000
DTSTAMP:20260425T194026
CREATED:20251127T055438Z
LAST-MODIFIED:20260202T122700Z
UID:22707-1769589000-1769608800@finsif.fi
SUMMARY:Energy Transition and Investing – From Macro Impacts to Asset Allocation Across Asset Classes
DESCRIPTION:
URL:https://finsif.fi/tapahtuma/energy-transition-and-investing-from-macro-impacts-to-asset-allocation-across-asset-classes/
CATEGORIES:Events
ATTACH;FMTTYPE=image/jpeg:https://finsif.fi/wp-content/uploads/2025/11/Nayttokuva-2025-11-27-084526.jpg
END:VEVENT
BEGIN:VEVENT
DTSTART;TZID=Europe/Brussels:20260129T160000
DTEND;TZID=Europe/Brussels:20260129T170000
DTSTAMP:20260425T194026
CREATED:20251217T103445Z
LAST-MODIFIED:20260216T132850Z
UID:22878-1769702400-1769706000@finsif.fi
SUMMARY:Eurosif Policy and Capacity Building Webinar
DESCRIPTION:
URL:https://finsif.fi/tapahtuma/eurosif-policy-and-capacity-building-webinar-december-2/
CATEGORIES:Eurosif Policy and Capacity Building Webinars,Events
ATTACH;FMTTYPE=image/jpeg:https://finsif.fi/wp-content/uploads/2024/09/eurosif-medium2.jpg
END:VEVENT
BEGIN:VEVENT
DTSTART;TZID=Europe/Helsinki:20260305T083000
DTEND;TZID=Europe/Helsinki:20260305T100000
DTSTAMP:20260425T194026
CREATED:20260210T113619Z
LAST-MODIFIED:20260210T142111Z
UID:23232-1772699400-1772704800@finsif.fi
SUMMARY:SFDR review: key changes considered and what it means for responsible investors
DESCRIPTION:
URL:https://finsif.fi/tapahtuma/sfdr-review-key-changes-considered-and-what-it-means-for-responsible-investors/
CATEGORIES:Events
ATTACH;FMTTYPE=image/jpeg:https://finsif.fi/wp-content/uploads/2026/02/sfdrkuva-scaled.jpg
END:VEVENT
BEGIN:VEVENT
DTSTART;TZID=Europe/Helsinki:20260423T083000
DTEND;TZID=Europe/Helsinki:20260423T110000
DTSTAMP:20260425T194026
CREATED:20260226T134105Z
LAST-MODIFIED:20260420T094233Z
UID:23401-1776933000-1776942000@finsif.fi
SUMMARY:Vastuullinen sijoittaminen tieteen linsseillä 2026 - Tekoäly vastuullisessa sijoittamisessa
DESCRIPTION:
URL:https://finsif.fi/tapahtuma/vastuullinen-sijoittaminen-tieteen-linsseilla-2026/
ATTACH;FMTTYPE=image/jpeg:https://finsif.fi/wp-content/uploads/2024/03/pexels-luis-quintero-2774556-scaled.jpg
END:VEVENT
BEGIN:VEVENT
DTSTART;TZID=Europe/Helsinki:20260521T083000
DTEND;TZID=Europe/Helsinki:20260521T103000
DTSTAMP:20260425T194026
CREATED:20260227T123528Z
LAST-MODIFIED:20260413T094312Z
UID:23419-1779352200-1779359400@finsif.fi
SUMMARY:PRI in 2026 – The road ahead\, Reporting and Pathways
DESCRIPTION:
URL:https://finsif.fi/tapahtuma/pri-in-2026-the-road-ahead-reporting-and-pathways/
CATEGORIES:Events
ATTACH;FMTTYPE=image/jpeg:https://finsif.fi/wp-content/uploads/2026/02/jack-b-Ei0A7NXPVS8-unsplash.jpg
END:VEVENT
BEGIN:VEVENT
DTSTART;TZID=Europe/Brussels:20260521T120000
DTEND;TZID=Europe/Brussels:20260521T130000
DTSTAMP:20260425T194026
CREATED:20251217T103740Z
LAST-MODIFIED:20260324T085753Z
UID:22882-1779364800-1779368400@finsif.fi
SUMMARY:Eurosif Policy and Capacity Building Webinar May 2026
DESCRIPTION:
URL:https://finsif.fi/tapahtuma/eurosif-policy-and-capacity-building-webinar-3/
CATEGORIES:Eurosif Policy and Capacity Building Webinars,Events
ATTACH;FMTTYPE=image/jpeg:https://finsif.fi/wp-content/uploads/2024/09/eurosif-medium2.jpg
END:VEVENT
BEGIN:VEVENT
DTSTART;TZID=Europe/Helsinki:20260527T133000
DTEND;TZID=Europe/Helsinki:20260527T160000
DTSTAMP:20260425T194026
CREATED:20260108T123621Z
LAST-MODIFIED:20260420T073148Z
UID:23032-1779888600-1779897600@finsif.fi
SUMMARY:Valokeilassa metsät - tietopaketti sijoittajalle & sääntömääräinen kevätkokous 2026
DESCRIPTION:
URL:https://finsif.fi/tapahtuma/saantomaarainen-kevatkokous-2026/
ATTACH;FMTTYPE=image/jpeg:https://finsif.fi/wp-content/uploads/2026/01/pexels-reagan-ross-262051700-13674757-scaled.jpg
END:VEVENT
BEGIN:VEVENT
DTSTART;TZID=Europe/Helsinki:20260825T080000
DTEND;TZID=Europe/Helsinki:20260825T190000
DTSTAMP:20260425T194026
CREATED:20250602T140851Z
LAST-MODIFIED:20260420T092151Z
UID:22013-1787644800-1787684400@finsif.fi
SUMMARY:Nordic Edge: Shaping the Future of Investing
DESCRIPTION:
URL:https://finsif.fi/tapahtuma/nordicsif-2026/
CATEGORIES:Events
ATTACH;FMTTYPE=image/jpeg:https://finsif.fi/wp-content/uploads/2025/06/kuvanettiin.jpg
END:VEVENT
BEGIN:VEVENT
DTSTART;TZID=Europe/Brussels:20260917T120000
DTEND;TZID=Europe/Brussels:20260917T130000
DTSTAMP:20260425T194026
CREATED:20251217T103843Z
LAST-MODIFIED:20260324T085811Z
UID:22884-1789646400-1789650000@finsif.fi
SUMMARY:Eurosif Policy and Capacity Building Webinar Sept 2026
DESCRIPTION:
URL:https://finsif.fi/tapahtuma/eurosif-policy-and-capacity-building-webinar-4/
CATEGORIES:Eurosif Policy and Capacity Building Webinars,Events
ATTACH;FMTTYPE=image/jpeg:https://finsif.fi/wp-content/uploads/2024/09/eurosif-medium2.jpg
END:VEVENT
END:VCALENDAR